BEGIN:VCALENDAR
VERSION:2.0
PRODID:-//Pinora Township - ECPv6.15.20//NONSGML v1.0//EN
CALSCALE:GREGORIAN
METHOD:PUBLISH
X-WR-CALNAME:Pinora Township
X-ORIGINAL-URL:https://pinoratownshipmi.org
X-WR-CALDESC:Events for Pinora Township
REFRESH-INTERVAL;VALUE=DURATION:PT1H
X-Robots-Tag:noindex
X-PUBLISHED-TTL:PT1H
BEGIN:VTIMEZONE
TZID:UTC
BEGIN:STANDARD
TZOFFSETFROM:+0000
TZOFFSETTO:+0000
TZNAME:UTC
DTSTART:20210101T000000
END:STANDARD
END:VTIMEZONE
BEGIN:VEVENT
DTSTART;TZID=UTC:20250303T190000
DTEND;TZID=UTC:20250303T193000
DTSTAMP:20260423T155200
CREATED:20230222T025920Z
LAST-MODIFIED:20240318T210142Z
UID:1249-1741028400-1741030200@pinoratownshipmi.org
SUMMARY:MARCH 2025 BOARD MEETING
DESCRIPTION:Our board meets on the 1st Monday of every month. Any cancellations or rescheduling will be posted on our website as soon as the changes are agreed upon by our board members. \nTo view this month’s meeting agenda\, click HERE. \nTo view the archive of our previous meeting minutes\, click HERE. \nTo contact our Township Board\, click HERE. \nMEETING ADJOURNMENT TIMES MAY VARY. 
URL:https://pinoratownshipmi.org/event/march-2025-board-meeting/
LOCATION:Pinora Township Hall\, 4032 S. Deer Lake Road\, Chase\, MI\, 49623\, United States
END:VEVENT
BEGIN:VEVENT
DTSTART;TZID=UTC:20250203T190000
DTEND;TZID=UTC:20250203T193000
DTSTAMP:20260423T155200
CREATED:20230222T025831Z
LAST-MODIFIED:20240318T210042Z
UID:1247-1738609200-1738611000@pinoratownshipmi.org
SUMMARY:FEBRUARY 2025 BOARD MEETING
DESCRIPTION:Our board meets on the 1st Monday of every month. Any cancellations or rescheduling will be posted on our website as soon as the changes are agreed upon by our board members. \nTo view this month’s meeting agenda\, click HERE. \nTo view the archive of our previous meeting minutes\, click HERE. \nTo contact our Township Board\, click HERE. \nMEETING ADJOURNMENT TIMES MAY VARY. 
URL:https://pinoratownshipmi.org/event/february-2025-board-meeting/
LOCATION:Pinora Township Hall\, 4032 S. Deer Lake Road\, Chase\, MI\, 49623\, United States
END:VEVENT
BEGIN:VEVENT
DTSTART;TZID=UTC:20250106T190000
DTEND;TZID=UTC:20250106T193000
DTSTAMP:20260423T155200
CREATED:20230222T025747Z
LAST-MODIFIED:20240318T205951Z
UID:1245-1736190000-1736191800@pinoratownshipmi.org
SUMMARY:JANUARY 2025 BOARD MEETING
DESCRIPTION:Our board meets on the 1st Monday of every month. Any cancellations or rescheduling will be posted on our website as soon as the changes are agreed upon by our board members. \nTo view this month’s meeting agenda\, click HERE. \nTo view the archive of our previous meeting minutes\, click HERE. \nTo contact our Township Board\, click HERE. \nMEETING ADJOURNMENT TIMES MAY VARY. 
URL:https://pinoratownshipmi.org/event/january-2025-board-meeting/
LOCATION:Pinora Township Hall\, 4032 S. Deer Lake Road\, Chase\, MI\, 49623\, United States
END:VEVENT
BEGIN:VEVENT
DTSTART;TZID=UTC:20241202T190000
DTEND;TZID=UTC:20241202T193000
DTSTAMP:20260423T155200
CREATED:20230222T025712Z
LAST-MODIFIED:20240318T205812Z
UID:1243-1733166000-1733167800@pinoratownshipmi.org
SUMMARY:DECEMBER 2024 BOARD MEETING
DESCRIPTION:Our board meets on the 1st Monday of every month. Any cancellations or rescheduling will be posted on our website as soon as the changes are agreed upon by our board members. \nTo view this month’s meeting agenda\, click HERE. \nTo view the archive of our previous meeting minutes\, click HERE. \nTo contact our Township Board\, click HERE. \nMEETING ADJOURNMENT TIMES MAY VARY. 
URL:https://pinoratownshipmi.org/event/december-2024-board-meeting/
LOCATION:Pinora Township Hall\, 4032 S. Deer Lake Road\, Chase\, MI\, 49623\, United States
END:VEVENT
BEGIN:VEVENT
DTSTART;TZID=UTC:20241111T190000
DTEND;TZID=UTC:20241111T193000
DTSTAMP:20260423T155200
CREATED:20230222T025624Z
LAST-MODIFIED:20240318T205234Z
UID:1241-1731351600-1731353400@pinoratownshipmi.org
SUMMARY:NOVEMBER 2024 BOARD MEETING
DESCRIPTION:Our board meets on the 1st Monday of every month. Any cancellations or rescheduling will be posted on our website as soon as the changes are agreed upon by our board members. \nTo view this month’s meeting agenda\, click HERE. \nTo view the archive of our previous meeting minutes\, click HERE. \nTo contact our Township Board\, click HERE. \nMEETING ADJOURNMENT TIMES MAY VARY. 
URL:https://pinoratownshipmi.org/event/november-2024-board-meeting/
LOCATION:Pinora Township Hall\, 4032 S. Deer Lake Road\, Chase\, MI\, 49623\, United States
END:VEVENT
BEGIN:VEVENT
DTSTART;TZID=UTC:20241007T190000
DTEND;TZID=UTC:20241007T193000
DTSTAMP:20260423T155200
CREATED:20230222T025540Z
LAST-MODIFIED:20240318T205124Z
UID:1239-1728327600-1728329400@pinoratownshipmi.org
SUMMARY:OCTOBER 2024 BOARD MEETING
DESCRIPTION:Our board meets on the 1st Monday of every month. Any cancellations or rescheduling will be posted on our website as soon as the changes are agreed upon by our board members. \nTo view this month’s meeting agenda\, click HERE. \nTo view the archive of our previous meeting minutes\, click HERE. \nTo contact our Township Board\, click HERE. \nMEETING ADJOURNMENT TIMES MAY VARY. 
URL:https://pinoratownshipmi.org/event/october-2024-board-meeting/
LOCATION:Pinora Township Hall\, 4032 S. Deer Lake Road\, Chase\, MI\, 49623\, United States
END:VEVENT
BEGIN:VEVENT
DTSTART;TZID=UTC:20240909T190000
DTEND;TZID=UTC:20240909T193000
DTSTAMP:20260423T155200
CREATED:20230222T025504Z
LAST-MODIFIED:20240318T205010Z
UID:1237-1725908400-1725910200@pinoratownshipmi.org
SUMMARY:SEPTEMBER 2024 BOARD MEETING
DESCRIPTION:Our board meets on the 1st Monday of every month. Any cancellations or rescheduling will be posted on our website as soon as the changes are agreed upon by our board members. \nTo view this month’s meeting agenda\, click HERE. \nTo view the archive of our previous meeting minutes\, click HERE. \nTo contact our Township Board\, click HERE. \nMEETING ADJOURNMENT TIMES MAY VARY. 
URL:https://pinoratownshipmi.org/event/september-2024-board-meeting/
LOCATION:Pinora Township Hall\, 4032 S. Deer Lake Road\, Chase\, MI\, 49623\, United States
END:VEVENT
BEGIN:VEVENT
DTSTART;TZID=UTC:20240812T190000
DTEND;TZID=UTC:20240812T193000
DTSTAMP:20260423T155200
CREATED:20230222T025422Z
LAST-MODIFIED:20240318T204856Z
UID:1235-1723489200-1723491000@pinoratownshipmi.org
SUMMARY:AUGUST 2024 BOARD MEETING
DESCRIPTION:Our board meets on the 1st Monday of every month. Any cancellations or rescheduling will be posted on our website as soon as the changes are agreed upon by our board members. \nTo view this month’s meeting agenda\, click HERE. \nTo view the archive of our previous meeting minutes\, click HERE. \nTo contact our Township Board\, click HERE. \nMEETING ADJOURNMENT TIMES MAY VARY. 
URL:https://pinoratownshipmi.org/event/august-2024-board-meeting/
LOCATION:Pinora Township Hall\, 4032 S. Deer Lake Road\, Chase\, MI\, 49623\, United States
END:VEVENT
BEGIN:VEVENT
DTSTART;TZID=UTC:20240801T140000
DTEND;TZID=UTC:20240801T180000
DTSTAMP:20260423T155200
CREATED:20240506T184553Z
LAST-MODIFIED:20240506T184553Z
UID:1593-1722520800-1722535200@pinoratownshipmi.org
SUMMARY:Lake County Hazardous Waste Cleanup Day
DESCRIPTION:
URL:https://pinoratownshipmi.org/event/lake-county-hazardous-waste-cleanup-day/
END:VEVENT
BEGIN:VEVENT
DTSTART;TZID=UTC:20240701T190000
DTEND;TZID=UTC:20240701T193000
DTSTAMP:20260423T155200
CREATED:20230222T025344Z
LAST-MODIFIED:20240318T204713Z
UID:1233-1719860400-1719862200@pinoratownshipmi.org
SUMMARY:JULY 2024 BOARD MEETING
DESCRIPTION:Our board meets on the 1st Monday of every month. Any cancellations or rescheduling will be posted on our website as soon as the changes are agreed upon by our board members. \nTo view this month’s meeting agenda\, click HERE. \nTo view the archive of our previous meeting minutes\, click HERE. \nTo contact our Township Board\, click HERE. \nMEETING ADJOURNMENT TIMES MAY VARY. 
URL:https://pinoratownshipmi.org/event/july-2024-board-meeting/
LOCATION:Pinora Township Hall\, 4032 S. Deer Lake Road\, Chase\, MI\, 49623\, United States
END:VEVENT
BEGIN:VEVENT
DTSTART;TZID=UTC:20240603T190000
DTEND;TZID=UTC:20240603T193000
DTSTAMP:20260423T155200
CREATED:20230222T025301Z
LAST-MODIFIED:20240318T204539Z
UID:1231-1717441200-1717443000@pinoratownshipmi.org
SUMMARY:JUNE 2024 BOARD MEETING
DESCRIPTION:Our board meets on the 1st Monday of every month. Any cancellations or rescheduling will be posted on our website as soon as the changes are agreed upon by our board members. \nTo view this month’s meeting agenda\, click HERE. \nTo view the archive of our previous meeting minutes\, click HERE. \nTo contact our Township Board\, click HERE. \nMEETING ADJOURNMENT TIMES MAY VARY. 
URL:https://pinoratownshipmi.org/event/june-2024-board-meeting/
LOCATION:Pinora Township Hall\, 4032 S. Deer Lake Road\, Chase\, MI\, 49623\, United States
END:VEVENT
BEGIN:VEVENT
DTSTART;TZID=UTC:20240506T190000
DTEND;TZID=UTC:20240506T193000
DTSTAMP:20260423T155200
CREATED:20230222T025134Z
LAST-MODIFIED:20240318T204433Z
UID:1229-1715022000-1715023800@pinoratownshipmi.org
SUMMARY:MAY 2024 BOARD MEETING
DESCRIPTION:Our board meets on the 1st Monday of every month. Any cancellations or rescheduling will be posted on our website as soon as the changes are agreed upon by our board members. \nTo view this month’s meeting agenda\, click HERE. \nTo view the archive of our previous meeting minutes\, click HERE. \nTo contact our Township Board\, click HERE. \nMEETING ADJOURNMENT TIMES MAY VARY. 
URL:https://pinoratownshipmi.org/event/may-2024-board-meeting/
LOCATION:Pinora Township Hall\, 4032 S. Deer Lake Road\, Chase\, MI\, 49623\, United States
END:VEVENT
BEGIN:VEVENT
DTSTART;TZID=UTC:20240401T183000
DTEND;TZID=UTC:20240401T190000
DTSTAMP:20260423T155200
CREATED:20230222T024942Z
LAST-MODIFIED:20240318T204246Z
UID:1227-1711996200-1711998000@pinoratownshipmi.org
SUMMARY:APRIL 2024 BOARD & BUDGET MEETING
DESCRIPTION:Our board meets on the 1st Monday of every month. Any cancellations or rescheduling will be posted on our website as soon as the changes are agreed upon by our board members. \nTo view this month’s meeting agenda\, click HERE. \nTo view the archive of our previous meeting minutes\, click HERE. \nTo contact our Township Board\, click HERE. \nMEETING ADJOURNMENT TIMES MAY VARY. 
URL:https://pinoratownshipmi.org/event/april-2024-board-budget-meeting/
LOCATION:Pinora Township Hall\, 4032 S. Deer Lake Road\, Chase\, MI\, 49623\, United States
END:VEVENT
BEGIN:VEVENT
DTSTART;TZID=UTC:20240313T150000
DTEND;TZID=UTC:20240313T210000
DTSTAMP:20260423T155200
CREATED:20240206T014720Z
LAST-MODIFIED:20240206T014720Z
UID:1470-1710342000-1710363600@pinoratownshipmi.org
SUMMARY:2024 BOARD OF REVIEW REGULAR MEETING #2
DESCRIPTION:To view the 2024 Board of Review Poverty Exemption Guidelines\, click HERE. \nBoard of Review dates for combined Pinora and Chase Townships.\nMeeting located at Pinora Township Hall 4032 S. Deer Lake Rd. Reed City\n\nMarch 5\, 2024 – Organizational Meeting 8:00 am.\nMarch  11\, 2024 – 9:00 am to 3:00 pm\nMarch 13\, 2024 – 3:00 pm to 9:00 pm\n\nPlease call Supervisor Vicki Dennett 231-779-2176 for any information.\n\nTo view the archive of our previous meeting minutes\, click HERE. \nTo contact our Township Board\, click HERE. \nMEETING ADJOURNMENT TIMES MAY VARY. 
URL:https://pinoratownshipmi.org/event/2024-board-of-review-regular-meeting-2/
LOCATION:Pinora Township Hall\, 4032 S. Deer Lake Road\, Chase\, MI\, 49623\, United States
END:VEVENT
BEGIN:VEVENT
DTSTART;TZID=UTC:20240311T090000
DTEND;TZID=UTC:20240311T150000
DTSTAMP:20260423T155200
CREATED:20240206T014415Z
LAST-MODIFIED:20240206T014451Z
UID:1467-1710147600-1710169200@pinoratownshipmi.org
SUMMARY:2024 BOARD OF REVIEW REGULAR MEETING #1
DESCRIPTION:To view the 2024 Board of Review Poverty Exemption Guidelines\, click HERE. \nBoard of Review dates for combined Pinora and Chase Townships.\nMeeting located at Pinora Township Hall 4032 S. Deer Lake Rd. Reed City\n\nMarch 5\, 2024 – Organizational Meeting 8:00 am.\nMarch 11\, 2024 – 9:00 am to 3:00 pm\nMarch 13\, 2024 – 3:00 pm to 9:00 pm\n\nPlease call Supervisor Vicki Dennett 231-779-2176 for any information.\nTo view the archive of our previous meeting minutes\, click HERE. \nTo contact our Township Board\, click HERE. \nMEETING ADJOURNMENT TIMES MAY VARY. 
URL:https://pinoratownshipmi.org/event/2024-board-of-review-regular-meeting-1/
LOCATION:Pinora Township Hall\, 4032 S. Deer Lake Road\, Chase\, MI\, 49623\, United States
END:VEVENT
BEGIN:VEVENT
DTSTART;TZID=UTC:20240305T080000
DTEND;TZID=UTC:20240305T090000
DTSTAMP:20260423T155200
CREATED:20240206T014246Z
LAST-MODIFIED:20240206T014550Z
UID:1464-1709625600-1709629200@pinoratownshipmi.org
SUMMARY:2024 BOARD OF REVIEW ORGANIZATIONAL MEETING
DESCRIPTION:To view the 2024 Board of Review Poverty Exemption Guidelines\, click HERE. \nBoard of Review dates for combined Pinora and Chase Townships.\nMeeting located at Pinora Township Hall 4032 S. Deer Lake Rd. Reed City\n\nMarch 5\, 2024 – Organizational Meeting 8:00 am.\nMarch  11\, 2024 – 9:00 am to 3:00 pm\nMarch 13\, 2024 – 3:00 pm to 9:00 pm\n\nPlease call Supervisor Vicki Dennett 231-779-2176 for any information.\n  \nTo view the archive of our previous meeting minutes\, click HERE. \nTo contact our Township Board\, click HERE. \nMEETING ADJOURNMENT TIMES MAY VARY. 
URL:https://pinoratownshipmi.org/event/2024-board-of-review-organizational-meeting/
LOCATION:Pinora Township Hall\, 4032 S. Deer Lake Road\, Chase\, MI\, 49623\, United States
END:VEVENT
BEGIN:VEVENT
DTSTART;TZID=UTC:20231026T190000
DTEND;TZID=UTC:20231026T193000
DTSTAMP:20260423T155200
CREATED:20231002T183933Z
LAST-MODIFIED:20231002T184038Z
UID:1381-1698346800-1698348600@pinoratownshipmi.org
SUMMARY:Lake County Township Officer Association Meeting
DESCRIPTION:To contact our Township Board\, click HERE. \nMEETING ADJOURNMENT TIMES MAY VARY. 
URL:https://pinoratownshipmi.org/event/lake-county-township-officer-association-meeting/
LOCATION:Pinora Township Hall\, 4032 S. Deer Lake Road\, Chase\, MI\, 49623\, United States
END:VEVENT
BEGIN:VEVENT
DTSTART;TZID=UTC:20230805T080000
DTEND;TZID=UTC:20230805T120000
DTSTAMP:20260423T155200
CREATED:20230605T212521Z
LAST-MODIFIED:20230605T212521Z
UID:1336-1691222400-1691236800@pinoratownshipmi.org
SUMMARY:LARGE ITEM PICK-UP DAY 2023
DESCRIPTION:Please have a copy of your township taxes available for proof of residence. \nNo hazardous waste will be accepted. \nLimit of 5 car tires to recycle per household. Larger tires accepted according to Independent Waste’s charges. The township reserves the right to limit the total amount of tires for recycling. \nCall Vicki Dennett for more info 231-779-2176.
URL:https://pinoratownshipmi.org/event/large-item-pick-up-day-2023/
LOCATION:Pinora Township Hall\, 4032 S. Deer Lake Road\, Chase\, MI\, 49623\, United States
END:VEVENT
BEGIN:VEVENT
DTSTART;TZID=UTC:20230316T150000
DTEND;TZID=UTC:20230316T210000
DTSTAMP:20260423T155200
CREATED:20230207T041158Z
LAST-MODIFIED:20230207T041252Z
UID:1202-1678978800-1679000400@pinoratownshipmi.org
SUMMARY:2023 BOARD OF REVIEW REGULAR MEETING #2
DESCRIPTION:To view the 2023 Board of Review Poverty Exemption Guidelines\, click HERE. \n  \nOur board meets on the 1st Monday of every month. Any cancellations or rescheduling will be posted on our website as soon as the changes are agreed upon by our board members. \nTo view this month’s meeting agenda\, click HERE. \nTo view the archive of our previous meeting minutes\, click HERE. \nTo contact our Township Board\, click HERE. \nMEETING ADJOURNMENT TIMES MAY VARY. 
URL:https://pinoratownshipmi.org/event/2023-bor-regular-meeting-2/
LOCATION:Pinora Township Hall\, 4032 S. Deer Lake Road\, Chase\, MI\, 49623\, United States
END:VEVENT
BEGIN:VEVENT
DTSTART;TZID=UTC:20230315T090000
DTEND;TZID=UTC:20230315T150000
DTSTAMP:20260423T155200
CREATED:20230207T040947Z
LAST-MODIFIED:20230207T041123Z
UID:1200-1678870800-1678892400@pinoratownshipmi.org
SUMMARY:2023 BOARD OF REVIEW REGULAR MEETING #1
DESCRIPTION:To view the 2023 Board of Review Poverty Exemption Guidelines\, click HERE. \n  \nOur board meets on the 1st Monday of every month. Any cancellations or rescheduling will be posted on our website as soon as the changes are agreed upon by our board members. \nTo view this month’s meeting agenda\, click HERE. \nTo view the archive of our previous meeting minutes\, click HERE. \nTo contact our Township Board\, click HERE. \nMEETING ADJOURNMENT TIMES MAY VARY. 
URL:https://pinoratownshipmi.org/event/2023-bor-regular-meeting-1/
LOCATION:Pinora Township Hall\, 4032 S. Deer Lake Road\, Chase\, MI\, 49623\, United States
END:VEVENT
BEGIN:VEVENT
DTSTART;TZID=UTC:20230307T080000
DTEND;TZID=UTC:20230307T090000
DTSTAMP:20260423T155200
CREATED:20220223T184417Z
LAST-MODIFIED:20230207T040944Z
UID:864-1678176000-1678179600@pinoratownshipmi.org
SUMMARY:2023 BOARD OF REVIEW ORGANIZATIONAL MEETING
DESCRIPTION:To view the 2023 Board of Review Poverty Exemption Guidelines\, click HERE. \n  \nOur board meets on the 1st Monday of every month. Any cancellations or rescheduling will be posted on our website as soon as the changes are agreed upon by our board members. \nTo view this month’s meeting agenda\, click HERE. \nTo view the archive of our previous meeting minutes\, click HERE. \nTo contact our Township Board\, click HERE. \nMEETING ADJOURNMENT TIMES MAY VARY. 
URL:https://pinoratownshipmi.org/event/march-2023-bor-meeting/
LOCATION:Pinora Township Hall\, 4032 S. Deer Lake Road\, Chase\, MI\, 49623\, United States
END:VEVENT
BEGIN:VEVENT
DTSTART;TZID=UTC:20221205T190000
DTEND;TZID=UTC:20221205T193000
DTSTAMP:20260423T155200
CREATED:20220223T192513Z
LAST-MODIFIED:20220225T190810Z
UID:889-1670266800-1670268600@pinoratownshipmi.org
SUMMARY:DECEMBER 2022 BOARD MEETING
DESCRIPTION:Our board meets on the 1st Monday of every month. Any cancellations or rescheduling will be posted on our website as soon as the changes are agreed upon by our board members. \nTo view this month’s meeting agenda\, click HERE. \nTo view the archive of our previous meeting minutes\, click HERE. \nTo contact our Township Board\, click HERE. \nMEETING ADJOURNMENT TIMES MAY VARY. 
URL:https://pinoratownshipmi.org/event/december-2022-board-meeting/
LOCATION:Pinora Township Hall\, 4032 S. Deer Lake Road\, Chase\, MI\, 49623\, United States
END:VEVENT
BEGIN:VEVENT
DTSTART;TZID=UTC:20221108T080000
DTEND;TZID=UTC:20221108T170000
DTSTAMP:20260423T155200
CREATED:20220712T002241Z
LAST-MODIFIED:20220712T002241Z
UID:1102-1667894400-1667926800@pinoratownshipmi.org
SUMMARY:State General Election
DESCRIPTION:
URL:https://pinoratownshipmi.org/event/state-general-election/
LOCATION:Pinora Township Hall\, 4032 S. Deer Lake Road\, Chase\, MI\, 49623\, United States
END:VEVENT
BEGIN:VEVENT
DTSTART;TZID=UTC:20221107T190000
DTEND;TZID=UTC:20221107T193000
DTSTAMP:20260423T155200
CREATED:20220223T191839Z
LAST-MODIFIED:20220225T190729Z
UID:887-1667847600-1667849400@pinoratownshipmi.org
SUMMARY:NOVEMBER 2022 BOARD MEETING
DESCRIPTION:Our board meets on the 1st Monday of every month. Any cancellations or rescheduling will be posted on our website as soon as the changes are agreed upon by our board members. \nTo view this month’s meeting agenda\, click HERE. \nTo view the archive of our previous meeting minutes\, click HERE. \nTo contact our Township Board\, click HERE. \nMEETING ADJOURNMENT TIMES MAY VARY. 
URL:https://pinoratownshipmi.org/event/november-2022-board-meeting/
LOCATION:Pinora Township Hall\, 4032 S. Deer Lake Road\, Chase\, MI\, 49623\, United States
END:VEVENT
BEGIN:VEVENT
DTSTART;TZID=UTC:20221003T190000
DTEND;TZID=UTC:20221003T193000
DTSTAMP:20260423T155200
CREATED:20220223T191435Z
LAST-MODIFIED:20220225T190639Z
UID:885-1664823600-1664825400@pinoratownshipmi.org
SUMMARY:OCTOBER 2022 BOARD MEETING
DESCRIPTION:Our board meets on the 1st Monday of every month. Any cancellations or rescheduling will be posted on our website as soon as the changes are agreed upon by our board members. \nTo view this month’s meeting agenda\, click HERE. \nTo view the archive of our previous meeting minutes\, click HERE. \nTo contact our Township Board\, click HERE. \nMEETING ADJOURNMENT TIMES MAY VARY. 
URL:https://pinoratownshipmi.org/event/october-2022-board-meeting/
LOCATION:Pinora Township Hall\, 4032 S. Deer Lake Road\, Chase\, MI\, 49623\, United States
END:VEVENT
BEGIN:VEVENT
DTSTART;TZID=UTC:20220912T190000
DTEND;TZID=UTC:20220912T193000
DTSTAMP:20260423T155200
CREATED:20220223T191232Z
LAST-MODIFIED:20220225T190604Z
UID:883-1663009200-1663011000@pinoratownshipmi.org
SUMMARY:SEPTEMBER 2022 BOARD MEETING
DESCRIPTION:Our board meets on the 1st Monday of every month. Any cancellations or rescheduling will be posted on our website as soon as the changes are agreed upon by our board members. \nTo view this month’s meeting agenda\, click HERE. \nTo view the archive of our previous meeting minutes\, click HERE. \nTo contact our Township Board\, click HERE. \nMEETING ADJOURNMENT TIMES MAY VARY. 
URL:https://pinoratownshipmi.org/event/september-2022-board-meeting/
LOCATION:Pinora Township Hall\, 4032 S. Deer Lake Road\, Chase\, MI\, 49623\, United States
END:VEVENT
BEGIN:VEVENT
DTSTART;TZID=UTC:20220806T080000
DTEND;TZID=UTC:20220806T120000
DTSTAMP:20260423T155200
CREATED:20220712T001836Z
LAST-MODIFIED:20220712T001836Z
UID:1098-1659772800-1659787200@pinoratownshipmi.org
SUMMARY:Township Large Item Collection Day
DESCRIPTION:Call Supervisor Dennett with any questions (231) 779-2176
URL:https://pinoratownshipmi.org/event/township-large-item-collection-day/
LOCATION:Pinora Township Hall\, 4032 S. Deer Lake Road\, Chase\, MI\, 49623\, United States
END:VEVENT
BEGIN:VEVENT
DTSTART;TZID=UTC:20220802T080000
DTEND;TZID=UTC:20220802T170000
DTSTAMP:20260423T155200
CREATED:20220712T002017Z
LAST-MODIFIED:20220712T002017Z
UID:1100-1659427200-1659459600@pinoratownshipmi.org
SUMMARY:State Primary Elections
DESCRIPTION:
URL:https://pinoratownshipmi.org/event/state-primary-elections/
LOCATION:Pinora Township Hall\, 4032 S. Deer Lake Road\, Chase\, MI\, 49623\, United States
END:VEVENT
BEGIN:VEVENT
DTSTART;TZID=UTC:20220801T190000
DTEND;TZID=UTC:20220801T193000
DTSTAMP:20260423T155200
CREATED:20220223T191134Z
LAST-MODIFIED:20220225T190537Z
UID:881-1659380400-1659382200@pinoratownshipmi.org
SUMMARY:AUGUST 2022 BOARD MEETING
DESCRIPTION:Our board meets on the 1st Monday of every month. Any cancellations or rescheduling will be posted on our website as soon as the changes are agreed upon by our board members. \nTo view this month’s meeting agenda\, click HERE. \nTo view the archive of our previous meeting minutes\, click HERE. \nTo contact our Township Board\, click HERE. \nMEETING ADJOURNMENT TIMES MAY VARY. 
URL:https://pinoratownshipmi.org/event/august-2022-board-meeting/
LOCATION:Pinora Township Hall\, 4032 S. Deer Lake Road\, Chase\, MI\, 49623\, United States
END:VEVENT
BEGIN:VEVENT
DTSTART;TZID=UTC:20220711T190000
DTEND;TZID=UTC:20220711T193000
DTSTAMP:20260423T155200
CREATED:20220223T191031Z
LAST-MODIFIED:20220225T190506Z
UID:879-1657566000-1657567800@pinoratownshipmi.org
SUMMARY:JULY 2022 BOARD MEETING
DESCRIPTION:Our board meets on the 1st Monday of every month. Any cancellations or rescheduling will be posted on our website as soon as the changes are agreed upon by our board members. \nTo view this month’s meeting agenda\, click HERE. \nTo view the archive of our previous meeting minutes\, click HERE. \nTo contact our Township Board\, click HERE. \nMEETING ADJOURNMENT TIMES MAY VARY. 
URL:https://pinoratownshipmi.org/event/july-2022-board-meeting/
LOCATION:Pinora Township Hall\, 4032 S. Deer Lake Road\, Chase\, MI\, 49623\, United States
END:VEVENT
END:VCALENDAR